BEGIN:VCALENDAR
VERSION:2.0
PRODID:-//Intand Corporation//Tandem//EN
METHOD:PUBLISH
BEGIN:VEVENT
DTSTAMP:20260424T162043Z
DTSTART:20190412T043000Z
DTEND:20190412T045500Z
TRANSP:TRANSPARENT
PRIORITY:0
SUMMARY:KLHS Telethon Dodgeball Tournament
LOCATION:LHS Auxiliary Gym\, LHS Cokely Gym\, LHS Fieldhouse Gym
DESCRIPTION:KLHS Annual Dodgeball Tournament. Students from LHS playing do
 dgeball to raise funds for KLHS.\n\nGroups:\nLHS Broadcasting KLPS\n\nScho
 ols:\nLiberty High School\n\nLocations:\nLHS Auxiliary Gym\nLHS Cokely Gym
 \nLHS Fieldhouse Gym\n\n
URL;VALUE=URI:http://liberty53.tandem.co/index.php?type=view&action=event&
 id=338774
CREATED:20190328T130540Z
LAST-MODIFIED:20190328T141104Z
UID:event_request-338774-liberty53@intand.com
END:VEVENT
END:VCALENDAR
