BEGIN:VCALENDAR
VERSION:2.0
PRODID:-//Intand Corporation//Tandem//EN
METHOD:PUBLISH
BEGIN:VEVENT
DTSTAMP:20260424T043918Z
DTSTART:20191124T010000Z
DTEND:20191124T033000Z
TRANSP:TRANSPARENT
PRIORITY:0
SUMMARY:LNHS Cinderella Musical Performance
LOCATION:LNHS Performing Arts Theater (GH HVAC)
DESCRIPTION:Setup: 3:00 pm\nBreakdown: 10:30 pm\n\nGroups:\nLNHS Theater\n
 \nSchools:\nLiberty North High School\n\nLocation:\nLNHS Performing Arts T
 heater (GH HVAC)\n\n
URL;VALUE=URI:http://liberty53.tandem.co/index.php?type=view&action=event&
 id=338693
CREATED:20190327T132220Z
LAST-MODIFIED:20190422T162952Z
UID:event_request-338693-liberty53@intand.com
END:VEVENT
END:VCALENDAR
