BEGIN:VCALENDAR
VERSION:2.0
PRODID:-//Intand Corporation//Tandem//EN
METHOD:PUBLISH
BEGIN:VEVENT
DTSTAMP:20260424T024456Z
DTSTART:20191016T120000Z
DTEND:20191016T124500Z
TRANSP:TRANSPARENT
PRIORITY:0
SUMMARY:LNMBB Workouts
LOCATION:LNHS Fieldhouse (GH HVAC)
DESCRIPTION:Groups:\nLNHS Basketball - Boys JV/Varsity\n\nSchools:\nLibert
 y North High School\n\nLocation:\nLNHS Fieldhouse (GH HVAC)\n\n
URL;VALUE=URI:http://liberty53.tandem.co/index.php?type=view&action=event&
 id=338684
CREATED:20190327T130231Z
LAST-MODIFIED:20190410T142707Z
UID:event_request-338684-liberty53@intand.com
END:VEVENT
END:VCALENDAR
