BEGIN:VCALENDAR
VERSION:2.0
PRODID:-//Intand Corporation//Tandem//EN
METHOD:PUBLISH
BEGIN:VEVENT
DTSTAMP:20260424T033134Z
DTSTART:20190723T130000Z
DTEND:20190723T190000Z
TRANSP:TRANSPARENT
PRIORITY:0
SUMMARY:LN - GG Choreography
LOCATION:LNHS Aux Gym - 407 (GH HVAC)
DESCRIPTION:Groups:\nLNHS Dance Team\n\nSchools:\nLiberty North High Schoo
 l\n\nLocation:\nLNHS Aux Gym - 407 (GH HVAC)\n\n
URL;VALUE=URI:http://liberty53.tandem.co/index.php?type=view&action=event&
 id=338628
CREATED:20190326T235046Z
LAST-MODIFIED:20190610T185255Z
UID:event_request-338628-liberty53@intand.com
END:VEVENT
END:VCALENDAR
