BEGIN:VCALENDAR
VERSION:2.0
PRODID:-//Intand Corporation//Tandem//EN
METHOD:PUBLISH
BEGIN:VEVENT
DTSTAMP:20260424T063711Z
DTSTART:20190418T233000Z
DTEND:20190419T003000Z
TRANSP:TRANSPARENT
PRIORITY:0
SUMMARY:Incoming PEAK Parents Meeting
LOCATION:SVMS LGIR
DESCRIPTION:Please set up 50 chairs in horse-shoe rows.\n\nGroups:\nSVMS P
 eak\n\nSchools:\nSouth Valley Middle School\n\nLocation:\nSVMS LGIR\n\n
URL;VALUE=URI:http://liberty53.tandem.co/index.php?type=view&action=event&
 id=338611
CREATED:20190326T155808Z
LAST-MODIFIED:20190327T144050Z
UID:event_request-338611-liberty53@intand.com
END:VEVENT
END:VCALENDAR
