BEGIN:VCALENDAR
VERSION:2.0
PRODID:-//Intand Corporation//Tandem//EN
METHOD:PUBLISH
BEGIN:VEVENT
DTSTAMP:20260424T055140Z
DTSTART:20190423T183000Z
DTEND:20190423T203000Z
TRANSP:TRANSPARENT
PRIORITY:0
SUMMARY:DAC 3-Board Room-Bid Opening
LOCATION:DAC 3-Board Room
DESCRIPTION:Groups:\nPurchasing & Distribution Department\n\nSchools:\nDis
 trict Administration Center\n\nLocation:\nDAC 3-Board Room\n\n
URL;VALUE=URI:http://liberty53.tandem.co/index.php?type=view&action=event&
 id=338593
CREATED:20190326T125204Z
LAST-MODIFIED:20190416T123419Z
UID:event-338593-liberty53@intand.com
END:VEVENT
END:VCALENDAR
