BEGIN:VCALENDAR
VERSION:2.0
PRODID:-//Intand Corporation//Tandem//EN
METHOD:PUBLISH
BEGIN:VEVENT
DTSTAMP:20260424T041011Z
DTSTART:20190402T210000Z
DTEND:20190402T220000Z
TRANSP:TRANSPARENT
PRIORITY:0
SUMMARY:DAC3-Board Room - Focus Group (Directors)
LOCATION:DAC 3-Board Room
DESCRIPTION:Groups:\nDAC Innovation & Learning\n\nSchools:\nDistrict Admin
 istration Center\n\nLocation:\nDAC 3-Board Room\n\n
URL;VALUE=URI:http://liberty53.tandem.co/index.php?type=view&action=event&
 id=338487
CREATED:20190325T161310Z
LAST-MODIFIED:20190325T164354Z
UID:event-338487-liberty53@intand.com
END:VEVENT
END:VCALENDAR
