BEGIN:VCALENDAR
VERSION:2.0
PRODID:-//Intand Corporation//Tandem//EN
METHOD:PUBLISH
BEGIN:VEVENT
DTSTAMP:20260424T160857Z
DTSTART:20190331T183000Z
DTEND:20190331T210000Z
TRANSP:TRANSPARENT
PRIORITY:0
SUMMARY:LNMBB Banquet
LOCATION:LNHS Cafeteria (GH HVAC)
DESCRIPTION:Groups:\nLNHS Basketball - Boys Sophomore\nLNHS Basketball - B
 oys C-Team\nLNHS Basketball - Boys JV/Varsity\nLNHS Basketball - Boys JV\n
 LNHS Basketball - Boys Varsity\n\nSchools:\nDO NOT USE****South Valley Jun
 ior High School\nDO NOT USE***Liberty Junior High School\nLiberty North Hi
 gh School\n\nLocation:\nLNHS Cafeteria (GH HVAC)\n\n
URL;VALUE=URI:http://liberty53.tandem.co/index.php?type=view&action=event&
 id=338481
CREATED:20190325T155742Z
LAST-MODIFIED:20190402T125132Z
UID:event_request-338481-liberty53@intand.com
END:VEVENT
END:VCALENDAR
