BEGIN:VCALENDAR
VERSION:2.0
PRODID:-//Intand Corporation//Tandem//EN
METHOD:PUBLISH
BEGIN:VEVENT
DTSTAMP:20260424T033217Z
DTSTART:20191219T210000Z
DTEND:20191219T230000Z
TRANSP:TRANSPARENT
PRIORITY:0
SUMMARY:LHS Varsity Sapphire Practice
LOCATION:LHS Cafeteria
DESCRIPTION:Groups:\nLHS Sapphires Varsity\n\nSchools:\nLiberty High Schoo
 l\n\nLocation:\nLHS Cafeteria\n\n
URL;VALUE=URI:http://liberty53.tandem.co/index.php?type=view&action=event&
 id=338415
CREATED:20190322T013017Z
LAST-MODIFIED:20190325T132333Z
UID:event_request-338415-liberty53@intand.com
END:VEVENT
END:VCALENDAR
