BEGIN:VCALENDAR
VERSION:2.0
PRODID:-//Intand Corporation//Tandem//EN
METHOD:PUBLISH
BEGIN:VEVENT
DTSTAMP:20260424T063510Z
DTSTART:20190327T233000Z
DTEND:20190328T010000Z
TRANSP:TRANSPARENT
PRIORITY:0
SUMMARY:ECC - I9 Sports Coaches Meeting
LOCATION:ECC Fireplace Room
DESCRIPTION:Groups:\nI9 Sports\n\nSchools:\nEarly Childhood Education Cent
 er\n\nLocation:\nECC Fireplace Room\n\n
URL;VALUE=URI:http://liberty53.tandem.co/index.php?type=view&action=event&
 id=338355
CREATED:20190320T144440Z
LAST-MODIFIED:20190320T144440Z
UID:event-338355-liberty53@intand.com
END:VEVENT
END:VCALENDAR
