BEGIN:VCALENDAR
VERSION:2.0
PRODID:-//Intand Corporation//Tandem//EN
METHOD:PUBLISH
BEGIN:VEVENT
DTSTAMP:20260424T061404Z
DTSTART:20190318T133000Z
DTEND:20190318T150000Z
TRANSP:TRANSPARENT
PRIORITY:0
SUMMARY:JV Soccer Spring Break Practice
LOCATION:LNHS Activity Complex
DESCRIPTION:Groups:\nLNHS Soccer - Girls JV\n\nSchools:\nLiberty North Hig
 h School\n\nLocation:\nLNHS Activity Complex\n\n
URL;VALUE=URI:http://liberty53.tandem.co/index.php?type=view&action=event&
 id=338255
CREATED:20190315T161332Z
LAST-MODIFIED:20190319T131506Z
UID:event_request-338255-liberty53@intand.com
END:VEVENT
END:VCALENDAR
