BEGIN:VCALENDAR
VERSION:2.0
PRODID:-//Intand Corporation//Tandem//EN
METHOD:PUBLISH
BEGIN:VEVENT
DTSTAMP:20260424T061315Z
DTSTART:20190402T133000Z
DTEND:20190402T153000Z
TRANSP:TRANSPARENT
PRIORITY:0
SUMMARY:DAC-408  AU Meeting
LOCATION:DAC 4 - 408
DESCRIPTION:Groups:\nSSC Special Services Staff\nDAC Innovation & Learning
 \n\nSchools:\nDistrict Administration Center\n\nLocation:\nDAC 4 - 408\n\n
URL;VALUE=URI:http://liberty53.tandem.co/index.php?type=view&action=event&
 id=338196
CREATED:20190314T190330Z
LAST-MODIFIED:20190314T190640Z
UID:event_request-338196-liberty53@intand.com
END:VEVENT
END:VCALENDAR
