BEGIN:VCALENDAR
VERSION:2.0
PRODID:-//Intand Corporation//Tandem//EN
METHOD:PUBLISH
BEGIN:VEVENT
DTSTAMP:20260424T024429Z
DTSTART:20190428T200000Z
DTEND:20190429T000000Z
TRANSP:TRANSPARENT
PRIORITY:0
SUMMARY:LNHS Winter Guard Banquet
LOCATION:SVMS Cafeteria
DESCRIPTION:Groups:\nLNHS Winter Guard\n\nSchools:\nLiberty North High Sch
 ool\nSouth Valley Middle School\n\nLocation:\nSVMS Cafeteria\n\n
URL;VALUE=URI:http://liberty53.tandem.co/index.php?type=view&action=event&
 id=338195
CREATED:20190314T184819Z
LAST-MODIFIED:20190412T192824Z
UID:event_request-338195-liberty53@intand.com
END:VEVENT
END:VCALENDAR
