BEGIN:VCALENDAR
VERSION:2.0
PRODID:-//Intand Corporation//Tandem//EN
METHOD:PUBLISH
BEGIN:VEVENT
DTSTAMP:20260424T043936Z
DTSTART;VALUE=DATE:20190603
DTEND;VALUE=DATE:20190604
TRANSP:TRANSPARENT
PRIORITY:0
SUMMARY:SSC - Kid's Zone Camp lead meeting
LOCATION:SS Conference Room
DESCRIPTION:Groups:\nKid's Zone Program\n\nSchools:\nDistrict Administrati
 on Center\n\nLocation:\nSS Conference Room\n\n
URL;VALUE=URI:http://liberty53.tandem.co/index.php?type=view&action=event&
 id=338168
CREATED:20190313T141720Z
LAST-MODIFIED:20190315T154838Z
UID:event_request-338168-liberty53@intand.com
END:VEVENT
END:VCALENDAR
