BEGIN:VCALENDAR
VERSION:2.0
PRODID:-//Intand Corporation//Tandem//EN
METHOD:PUBLISH
BEGIN:VEVENT
DTSTAMP:20260424T024236Z
DTSTART:20190517T230000Z
DTEND:20190518T023000Z
TRANSP:TRANSPARENT
PRIORITY:0
SUMMARY:LNHS Student Council Community Field Day 
LOCATION:LNHS Fieldhouse (GH HVAC)\, LNHS Cafeteria (GH HVAC)\, LNHS Field
 house Mezzanine\, LNHS Great Hall\, LNHS Activity Complex
DESCRIPTION:LNHS Student Council is hosting a community field day to benef
 it Variety Kids. \n\nGroups:\nLNHS Grade 10\nLNHS Grade 11\nLNHS Grade 12\
 nLNHS Grade 9\n\nSchools:\nLiberty North High School\n\nLocations:\nLNHS F
 ieldhouse (GH HVAC)\nLNHS Cafeteria (GH HVAC)\nLNHS Fieldhouse Mezzanine\n
 LNHS Great Hall\nLNHS Activity Complex\n\n
URL;VALUE=URI:http://liberty53.tandem.co/index.php?type=view&action=event&
 id=338126
CREATED:20190312T181309Z
LAST-MODIFIED:20190312T182011Z
UID:event_request-338126-liberty53@intand.com
END:VEVENT
END:VCALENDAR
