BEGIN:VCALENDAR
VERSION:2.0
PRODID:-//Intand Corporation//Tandem//EN
METHOD:PUBLISH
BEGIN:VEVENT
DTSTAMP:20260424T043419Z
DTSTART:20190423T200000Z
DTEND:20190423T220000Z
TRANSP:TRANSPARENT
PRIORITY:0
SUMMARY:Sapphires Practice
LOCATION:DMS Gym
DESCRIPTION:Groups:\nDMS Staff\nLHS Sapphires Varsity\n\nSchools:\nDiscove
 ry Middle School\nLiberty High School\n\nLocation:\nDMS Gym\n\n
URL;VALUE=URI:http://liberty53.tandem.co/index.php?type=view&action=event&
 id=338025
CREATED:20190311T224843Z
LAST-MODIFIED:20190311T224843Z
UID:event-338025-liberty53@intand.com
END:VEVENT
END:VCALENDAR
