BEGIN:VCALENDAR
VERSION:2.0
PRODID:-//Intand Corporation//Tandem//EN
METHOD:PUBLISH
BEGIN:VEVENT
DTSTAMP:20260424T014515Z
DTSTART:20190618T130000Z
DTEND:20190618T150000Z
TRANSP:TRANSPARENT
PRIORITY:0
SUMMARY:LHS - Girls Basketball Workouts
LOCATION:DMS Gym
DESCRIPTION:Groups:\nLHS Girls Basketball\n\nSchools:\nDiscovery Middle Sc
 hool\nLiberty High School\n\nLocation:\nDMS Gym\n\n
URL;VALUE=URI:http://liberty53.tandem.co/index.php?type=view&action=event&
 id=337925
CREATED:20190311T201413Z
LAST-MODIFIED:20190311T201413Z
UID:event-337925-liberty53@intand.com
END:VEVENT
END:VCALENDAR
