BEGIN:VCALENDAR
VERSION:2.0
PRODID:-//Intand Corporation//Tandem//EN
METHOD:PUBLISH
BEGIN:VEVENT
DTSTAMP:20260424T014448Z
DTSTART:20190313T180000Z
DTEND:20190313T183000Z
TRANSP:TRANSPARENT
PRIORITY:0
SUMMARY:LHS Sophomore Class Ring Meeting
LOCATION:LHS Guidance Conference Room
DESCRIPTION:Schools:\nLiberty High School\n\nLocation:\nLHS Guidance Confe
 rence Room\n\n
URL;VALUE=URI:http://liberty53.tandem.co/index.php?type=view&action=event&
 id=337904
CREATED:20190311T183037Z
LAST-MODIFIED:20190311T205328Z
UID:event_request-337904-liberty53@intand.com
END:VEVENT
END:VCALENDAR
