BEGIN:VCALENDAR
VERSION:2.0
PRODID:-//Intand Corporation//Tandem//EN
METHOD:PUBLISH
BEGIN:VEVENT
DTSTAMP:20260424T053456Z
DTSTART:20190410T133000Z
DTEND:20190410T163000Z
TRANSP:TRANSPARENT
PRIORITY:0
SUMMARY:LN--PK mtg
LOCATION:LNHS Room 707
DESCRIPTION:Groups:\nLNHS Staff\n\nSchools:\nLiberty North High School\n\n
 Location:\nLNHS Room 707\n\n
URL;VALUE=URI:http://liberty53.tandem.co/index.php?type=view&action=event&
 id=337668
CREATED:20190308T130034Z
LAST-MODIFIED:20190308T130034Z
UID:event-337668-liberty53@intand.com
END:VEVENT
END:VCALENDAR
