BEGIN:VCALENDAR
VERSION:2.0
PRODID:-//Intand Corporation//Tandem//EN
METHOD:PUBLISH
BEGIN:VEVENT
DTSTAMP:20260424T014715Z
DTSTART:20190517T230000Z
DTEND:20190518T020000Z
TRANSP:TRANSPARENT
PRIORITY:0
SUMMARY:One Act Performance
LOCATION:LNHS Room 608
DESCRIPTION:Student led writing and drama club will perform their original
  one act plays. Performance will begin at 7pm. \n\nGroups:\nLNHS Theater\n
 \nSchools:\nLiberty North High School\n\nLocation:\nLNHS Room 608\n\nConta
 cts:\nSara Turner\n\n
X-ALT-DESC;FMTTYPE=text/html:<!doctype html><html><body><span>Student led 
 writing and drama club will perform their original one act plays. Performa
 nce will begin at 7pm. </span><br /><br />Groups:<br />LNHS Theater<br /><
 br />Schools:<br />Liberty North High School<br /><br />Location:<br />LNH
 S Room 608<br /><br />Contacts:<br />Sara Turner<br /></body></html>
URL;VALUE=URI:http://liberty53.tandem.co/index.php?type=view&action=event&
 id=337665
CREATED:20190307T213355Z
LAST-MODIFIED:20190506T141326Z
UID:event_request-337665-liberty53@intand.com
END:VEVENT
END:VCALENDAR
