BEGIN:VCALENDAR
VERSION:2.0
PRODID:-//Intand Corporation//Tandem//EN
METHOD:PUBLISH
BEGIN:VEVENT
DTSTAMP:20260424T043419Z
DTSTART:20200106T210000Z
DTEND:20200106T230000Z
TRANSP:TRANSPARENT
PRIORITY:0
SUMMARY:HMS BB/GB Practices
LOCATION:HMS North Gym\, HMS South Gym
DESCRIPTION:Groups:\nHMS Girls Basketball\nHMS Boys Basketball\n\nSchools:
 \nHeritage Middle School\n\nLocations:\nHMS North Gym\nHMS South Gym\n\n
URL;VALUE=URI:http://liberty53.tandem.co/index.php?type=view&action=event&
 id=337491
CREATED:20190305T165751Z
LAST-MODIFIED:20190308T161432Z
UID:event-337491-liberty53@intand.com
END:VEVENT
END:VCALENDAR
