BEGIN:VCALENDAR
VERSION:2.0
PRODID:-//Intand Corporation//Tandem//EN
METHOD:PUBLISH
BEGIN:VEVENT
DTSTAMP:20260424T023808Z
DTSTART:20191217T210000Z
DTEND:20191217T230000Z
TRANSP:TRANSPARENT
PRIORITY:0
SUMMARY:[Cancelled] LN 8 Wrestling Practice
LOCATION:HMS South Gym
DESCRIPTION:Groups:\nLNHS 8th Grade Wrestling\n\nSchools:\nHeritage Middle
  School\nLiberty North High School\nSouth Valley Middle School\n\nLocation
 :\nHMS South Gym\n\n
URL;VALUE=URI:http://liberty53.tandem.co/index.php?type=view&action=event&
 id=337469
CREATED:20190305T164939Z
LAST-MODIFIED:20191217T021847Z
UID:event-337469-liberty53@intand.com
END:VEVENT
END:VCALENDAR
