BEGIN:VCALENDAR
VERSION:2.0
PRODID:-//Intand Corporation//Tandem//EN
METHOD:PUBLISH
BEGIN:VEVENT
DTSTAMP:20260424T043457Z
DTSTART:20190306T190000Z
DTEND:20190306T194000Z
TRANSP:TRANSPARENT
PRIORITY:0
SUMMARY:LHS-  Soph Football Meeting
LOCATION:LHS Learning Stairs
DESCRIPTION:Groups:\nLHS Football\n\nSchools:\nLiberty High School\n\nLoca
 tion:\nLHS Learning Stairs\n\n
URL;VALUE=URI:http://liberty53.tandem.co/index.php?type=view&action=event&
 id=337339
CREATED:20190305T160100Z
LAST-MODIFIED:20190305T171821Z
UID:event_request-337339-liberty53@intand.com
END:VEVENT
END:VCALENDAR
