BEGIN:VCALENDAR
VERSION:2.0
PRODID:-//Intand Corporation//Tandem//EN
METHOD:PUBLISH
BEGIN:VEVENT
DTSTAMP:20260424T014813Z
DTSTART:20190709T140000Z
DTEND:20190709T210000Z
TRANSP:TRANSPARENT
PRIORITY:0
SUMMARY:LNHS-Missouri Retirement Seminars: PSRS (10 am) / PEERS (1 pm)
LOCATION:LNHS LMC - 200
DESCRIPTION:Groups:\nDAC Human Resources\n\nSchools:\nDistrict Administrat
 ion Center\nLiberty North High School\n\nLocation:\nLNHS LMC - 200\n\n
URL;VALUE=URI:http://liberty53.tandem.co/index.php?type=view&action=event&
 id=337157
CREATED:20190228T221528Z
LAST-MODIFIED:20190228T225601Z
UID:event_request-337157-liberty53@intand.com
END:VEVENT
END:VCALENDAR
