BEGIN:VCALENDAR
VERSION:2.0
PRODID:-//Intand Corporation//Tandem//EN
METHOD:PUBLISH
BEGIN:VEVENT
DTSTAMP:20260424T033134Z
DTSTART:20190309T140000Z
DTEND:20190309T190000Z
TRANSP:TRANSPARENT
PRIORITY:0
SUMMARY:LN - Weight Lifting Meet
LOCATION:LNHS Aux Weight Room 1\, LNHS Fieldhouse (GH HVAC)\, LNHS Cafeter
 ia (GH HVAC)\, LNHS Aux Gym - 407 (GH HVAC)\, LNHS Fieldhouse Mezzanine\, 
 LNHS Great Hall\, LNHS Room 428-Weight Room
DESCRIPTION:Setup: 6:00 am\nBreakdown: 1:01 pm\n\nGroups:\nLNHS Coaching S
 taff\n\nSchools:\nLiberty North High School\n\nLocations:\nLNHS Aux Weight
  Room 1\nLNHS Fieldhouse (GH HVAC)\nLNHS Cafeteria (GH HVAC)\nLNHS Aux Gym
  - 407 (GH HVAC)\nLNHS Fieldhouse Mezzanine\nLNHS Great Hall\nLNHS Room 42
 8-Weight Room\n\n
URL;VALUE=URI:http://liberty53.tandem.co/index.php?type=view&action=event&
 id=337119
CREATED:20190228T181146Z
LAST-MODIFIED:20190228T181146Z
UID:event-337119-liberty53@intand.com
END:VEVENT
END:VCALENDAR
