BEGIN:VCALENDAR
VERSION:2.0
PRODID:-//Intand Corporation//Tandem//EN
METHOD:PUBLISH
BEGIN:VEVENT
DTSTAMP:20260424T041522Z
DTSTART:20190314T163000Z
DTEND:20190314T180000Z
TRANSP:TRANSPARENT
PRIORITY:0
SUMMARY:DAC-409 SSW Meeting
LOCATION:DAC 4 - 409
DESCRIPTION:Groups:\nDAC Innovation & Learning\nSocial Workers\n\nSchools:
 \nDistrict Administration Center\n\nLocation:\nDAC 4 - 409\n\n
URL;VALUE=URI:http://liberty53.tandem.co/index.php?type=view&action=event&
 id=337118
CREATED:20190228T180225Z
LAST-MODIFIED:20190228T182400Z
UID:event_request-337118-liberty53@intand.com
END:VEVENT
END:VCALENDAR
