BEGIN:VCALENDAR
VERSION:2.0
PRODID:-//Intand Corporation//Tandem//EN
METHOD:PUBLISH
BEGIN:VEVENT
DTSTAMP:20260424T023906Z
DTSTART:20190329T220000Z
DTEND:20190330T045959Z
TRANSP:TRANSPARENT
PRIORITY:0
SUMMARY:LN BB C Gold vs Staley
LOCATION:LNHS Yard - Baseball Field
DESCRIPTION:Breakdown: TBD\n\nReturn: TBD\n\nGroups:\nLNHS Baseball - C-Go
 ld\n\nSchools:\nLiberty North High School\n\nLocation:\nLNHS Yard - Baseba
 ll Field\n\n
URL;VALUE=URI:http://liberty53.tandem.co/index.php?type=view&action=event&
 id=337000
CREATED:20190226T222824Z
LAST-MODIFIED:20190226T222824Z
UID:event-337000-liberty53@intand.com
END:VEVENT
END:VCALENDAR
