BEGIN:VCALENDAR
VERSION:2.0
PRODID:-//Intand Corporation//Tandem//EN
METHOD:PUBLISH
BEGIN:VEVENT
DTSTAMP:20260424T053438Z
DTSTART:20190306T000000Z
DTEND:20190306T023000Z
TRANSP:TRANSPARENT
PRIORITY:0
SUMMARY:LHS Band Booster Meeting
LOCATION:LHS Room 806 Studio
DESCRIPTION:Setup: 5:30 pm\nBreakdown: 9:00 pm\n\nGroups:\nLHS Color Guard
 \nLHS Band\n\nSchools:\nLiberty High School\n\nLocation:\nLHS Room 806 Stu
 dio\n\nContacts:\nEddie Owen\nBrittany True\n\nSupervisors:\nEddie Owen\nB
 rittany True\n\n
URL;VALUE=URI:http://liberty53.tandem.co/index.php?type=view&action=event&
 id=336947
CREATED:20190226T122437Z
LAST-MODIFIED:20190228T192457Z
UID:event_request-336947-liberty53@intand.com
END:VEVENT
END:VCALENDAR
