BEGIN:VCALENDAR
VERSION:2.0
PRODID:-//Intand Corporation//Tandem//EN
METHOD:PUBLISH
BEGIN:VEVENT
DTSTAMP:20260424T063843Z
DTSTART:20191206T213000Z
DTEND:20191207T000000Z
TRANSP:TRANSPARENT
PRIORITY:0
SUMMARY:LNHS Play Rehearsal
LOCATION:LNHS Room 607 Black Box Theater
DESCRIPTION:Groups:\nLNHS Theater\n\nSchools:\nLiberty North High School\n
 \nLocation:\nLNHS Room 607 Black Box Theater\n\n
URL;VALUE=URI:http://liberty53.tandem.co/index.php?type=view&action=event&
 id=336925
CREATED:20190225T222938Z
LAST-MODIFIED:20190228T192543Z
UID:event_request-336925-liberty53@intand.com
END:VEVENT
END:VCALENDAR
