BEGIN:VCALENDAR
VERSION:2.0
PRODID:-//Intand Corporation//Tandem//EN
METHOD:PUBLISH
BEGIN:VEVENT
DTSTAMP:20260424T014600Z
DTSTART:20190514T230000Z
DTEND:20190515T003000Z
TRANSP:TRANSPARENT
PRIORITY:0
SUMMARY:LHS-GBB K-8th Basketball Camp 2019
LOCATION:LHS Cokely Gym\, LHS Fieldhouse Gym
DESCRIPTION:Groups:\nLHS Girls Basketball\n\nSchools:\nLiberty High School
 \n\nLocations:\nLHS Cokely Gym\nLHS Fieldhouse Gym\n\n
URL;VALUE=URI:http://liberty53.tandem.co/index.php?type=view&action=event&
 id=336845
CREATED:20190225T211250Z
LAST-MODIFIED:20190225T211619Z
UID:event-336845-liberty53@intand.com
END:VEVENT
END:VCALENDAR
