BEGIN:VCALENDAR
VERSION:2.0
PRODID:-//Intand Corporation//Tandem//EN
METHOD:PUBLISH
BEGIN:VEVENT
DTSTAMP:20260424T014804Z
DTSTART:20190225T150000Z
DTEND:20190225T173000Z
TRANSP:TRANSPARENT
PRIORITY:0
SUMMARY:CSF Meeting - Jessica\, Rob and Gina
LOCATION:LNHS Room 707
DESCRIPTION:Groups:\nSocial Workers\n\nSchools:\nDistrict Administration C
 enter\nLiberty North High School\n\nLocation:\nLNHS Room 707\n\n
URL;VALUE=URI:http://liberty53.tandem.co/index.php?type=view&action=event&
 id=336725
CREATED:20190222T212548Z
LAST-MODIFIED:20190226T205208Z
UID:event_request-336725-liberty53@intand.com
END:VEVENT
END:VCALENDAR
