BEGIN:VCALENDAR
VERSION:2.0
PRODID:-//Intand Corporation//Tandem//EN
METHOD:PUBLISH
BEGIN:VEVENT
DTSTAMP:20260424T014938Z
DTSTART:20200108T213000Z
DTEND:20200109T000000Z
TRANSP:TRANSPARENT
PRIORITY:0
SUMMARY:LNHS Play Rehearsal
LOCATION:LNHS Performing Arts Theater (GH HVAC)
DESCRIPTION:Groups:\nLNHS Theater\n\nSchools:\nLiberty North High School\n
 \nLocation:\nLNHS Performing Arts Theater (GH HVAC)\n\n
URL;VALUE=URI:http://liberty53.tandem.co/index.php?type=view&action=event&
 id=336663
CREATED:20190222T195206Z
LAST-MODIFIED:20190223T164528Z
UID:event_request-336663-liberty53@intand.com
END:VEVENT
END:VCALENDAR
