BEGIN:VCALENDAR
VERSION:2.0
PRODID:-//Intand Corporation//Tandem//EN
METHOD:PUBLISH
BEGIN:VEVENT
DTSTAMP:20260424T014904Z
DTSTART:20190228T160000Z
DTEND:20190228T180000Z
TRANSP:TRANSPARENT
PRIORITY:0
SUMMARY:DMS Immunization Clinic
LOCATION:DMS Conference Room 1
DESCRIPTION:Groups:\nDMS Staff\n\nSchools:\nDiscovery Middle School\n\nLoc
 ation:\nDMS Conference Room 1\n\n
URL;VALUE=URI:http://liberty53.tandem.co/index.php?type=view&action=event&
 id=336210
CREATED:20190222T171931Z
LAST-MODIFIED:20190222T181345Z
UID:event_request-336210-liberty53@intand.com
END:VEVENT
END:VCALENDAR
