BEGIN:VCALENDAR
VERSION:2.0
PRODID:-//Intand Corporation//Tandem//EN
METHOD:PUBLISH
BEGIN:VEVENT
DTSTAMP:20260424T080200Z
DTSTART:20190312T213000Z
DTEND:20190313T003000Z
TRANSP:TRANSPARENT
PRIORITY:0
SUMMARY:LHS:Parent-Agency Collaboration Night 
LOCATION:LHS The Nest\, LHS LMC Main Floor
DESCRIPTION:Groups:\nLHS SPED\n\nSchools:\nLiberty High School\n\nLocation
 s:\nLHS The Nest\nLHS LMC Main Floor\n\n
URL;VALUE=URI:http://liberty53.tandem.co/index.php?type=view&action=event&
 id=336193
CREATED:20190222T154611Z
LAST-MODIFIED:20190222T155514Z
UID:event_request-336193-liberty53@intand.com
END:VEVENT
END:VCALENDAR
