BEGIN:VCALENDAR
VERSION:2.0
PRODID:-//Intand Corporation//Tandem//EN
METHOD:PUBLISH
BEGIN:VEVENT
DTSTAMP:20260424T061739Z
DTSTART:20190302T000000Z
DTEND:20190302T023000Z
TRANSP:TRANSPARENT
PRIORITY:0
SUMMARY: AD - Parks & Rec Bitty Basketball Program
LOCATION:ADE Gym
DESCRIPTION:Groups:\nLiberty Parks & Rec Basketball\n\nSchools:\nAlexander
  Doniphan Elementary\n\nLocation:\nADE Gym\n\n
URL;VALUE=URI:http://liberty53.tandem.co/index.php?type=view&action=event&
 id=336187
CREATED:20190222T131852Z
LAST-MODIFIED:20190222T131852Z
UID:event-336187-liberty53@intand.com
END:VEVENT
END:VCALENDAR
