BEGIN:VCALENDAR
VERSION:2.0
PRODID:-//Intand Corporation//Tandem//EN
METHOD:PUBLISH
BEGIN:VEVENT
DTSTAMP:20260424T050226Z
DTSTART:20190306T000000Z
DTEND:20190306T020000Z
TRANSP:TRANSPARENT
PRIORITY:0
SUMMARY:LHS - Early Explorer's Parenting Seminar
LOCATION:LHS LMC Main Floor
DESCRIPTION:Groups:\nEarly Explorers Learning Center\n\nSchools:\nLiberty 
 High School\n\nLocation:\nLHS LMC Main Floor\n\n
URL;VALUE=URI:http://liberty53.tandem.co/index.php?type=view&action=event&
 id=336152
CREATED:20190221T200652Z
LAST-MODIFIED:20190221T200652Z
UID:event-336152-liberty53@intand.com
END:VEVENT
END:VCALENDAR
