BEGIN:VCALENDAR
VERSION:2.0
PRODID:-//Intand Corporation//Tandem//EN
METHOD:PUBLISH
BEGIN:VEVENT
DTSTAMP:20260424T043713Z
DTSTART:20190501T125500Z
DTEND:20190501T135500Z
TRANSP:TRANSPARENT
PRIORITY:0
SUMMARY:WH - Bricks 4 Kidz - STEM Enrichment Class
LOCATION:WHE Library
DESCRIPTION:Groups:\nBricks 4 Kidz\n\nSchools:\nWarren Hills Elementary\n\
 nLocation:\nWHE Library\n\n
URL;VALUE=URI:http://liberty53.tandem.co/index.php?type=view&action=event&
 id=336135
CREATED:20190221T193434Z
LAST-MODIFIED:20190221T193434Z
UID:event-336135-liberty53@intand.com
END:VEVENT
END:VCALENDAR
