BEGIN:VCALENDAR
VERSION:2.0
PRODID:-//Intand Corporation//Tandem//EN
METHOD:PUBLISH
BEGIN:VEVENT
DTSTAMP:20260424T014855Z
DTSTART:20190303T230000Z
DTEND:20190304T010000Z
TRANSP:TRANSPARENT
PRIORITY:0
SUMMARY:LC - Legends Softball Practice (Mason)
LOCATION:LCE Gym
DESCRIPTION:Groups:\nLegends Softball\n\nSchools:\nLewis And Clark Element
 ary\n\nLocation:\nLCE Gym\n\n
URL;VALUE=URI:http://liberty53.tandem.co/index.php?type=view&action=event&
 id=336058
CREATED:20190221T170441Z
LAST-MODIFIED:20190221T170441Z
UID:event-336058-liberty53@intand.com
END:VEVENT
END:VCALENDAR
