BEGIN:VCALENDAR
VERSION:2.0
PRODID:-//Intand Corporation//Tandem//EN
METHOD:PUBLISH
BEGIN:VEVENT
DTSTAMP:20260424T064543Z
DTSTART:20190328T200000Z
DTEND:20190328T230000Z
TRANSP:TRANSPARENT
PRIORITY:0
SUMMARY:LMS Talent Show Auditions
LOCATION:LMS Room 403\, LMS Room 505 - Band Room\, LMS Room 501 - Vocal Mu
 sic\, LMS Commons
DESCRIPTION:Schools:\nLiberty Middle School\n\nLocations:\nLMS Room 403\nL
 MS Room 505 - Band Room\nLMS Room 501 - Vocal Music\nLMS Commons\n\n
URL;VALUE=URI:http://liberty53.tandem.co/index.php?type=view&action=event&
 id=336044
CREATED:20190221T135931Z
LAST-MODIFIED:20190304T160726Z
UID:event_request-336044-liberty53@intand.com
END:VEVENT
END:VCALENDAR
