BEGIN:VCALENDAR
VERSION:2.0
PRODID:-//Intand Corporation//Tandem//EN
METHOD:PUBLISH
BEGIN:VEVENT
DTSTAMP:20260424T040605Z
DTSTART:20190327T192500Z
DTEND:20190327T205500Z
TRANSP:TRANSPARENT
PRIORITY:0
SUMMARY: DMS-Play-Well TEKnologies-Morse
LOCATION:DMS Room 400
DESCRIPTION:Groups:\nPlay-Well TEKnologies\n\nSchools:\nDiscovery Middle S
 chool\n\nLocation:\nDMS Room 400\n\n
URL;VALUE=URI:http://liberty53.tandem.co/index.php?type=view&action=event&
 id=336001
CREATED:20190219T201036Z
LAST-MODIFIED:20190219T201036Z
UID:event-336001-liberty53@intand.com
END:VEVENT
END:VCALENDAR
