BEGIN:VCALENDAR
VERSION:2.0
PRODID:-//Intand Corporation//Tandem//EN
METHOD:PUBLISH
BEGIN:VEVENT
DTSTAMP:20260424T014700Z
DTSTART:20190611T160000Z
DTEND:20190611T203000Z
TRANSP:TRANSPARENT
PRIORITY:0
SUMMARY:DMS- 8th Grade/HS Summer School Usage
LOCATION:DMS Football Field\, DMS Weight Room\, DMS Track\, DMS zProvide H
 VAC for Entire Building\, DMS Soccer Field
DESCRIPTION:Groups:\nDMS Administrative Assistants\n\nSchools:\nDiscovery 
 Middle School\n\nLocations:\nDMS Football Field\nDMS Weight Room\nDMS Trac
 k\nDMS zProvide HVAC for Entire Building\nDMS Soccer Field\n\n
URL;VALUE=URI:http://liberty53.tandem.co/index.php?type=view&action=event&
 id=335964
CREATED:20190219T184049Z
LAST-MODIFIED:20190219T184211Z
UID:event_request-335964-liberty53@intand.com
END:VEVENT
END:VCALENDAR
