BEGIN:VCALENDAR
VERSION:2.0
PRODID:-//Intand Corporation//Tandem//EN
METHOD:PUBLISH
BEGIN:VEVENT
DTSTAMP:20260424T014657Z
DTSTART:20190501T203000Z
DTEND:20190501T223000Z
TRANSP:TRANSPARENT
PRIORITY:0
SUMMARY:LNHS Girls C Team Soccer (Gold Team Only)
LOCATION:LNHS Soccer Field
DESCRIPTION:Groups:\nLNHS Soccer - Girls C-Team\n\nSchools:\nLiberty North
  High School\n\nLocation:\nLNHS Soccer Field\n\n
URL;VALUE=URI:http://liberty53.tandem.co/index.php?type=view&action=event&
 id=335936
CREATED:20190219T171940Z
LAST-MODIFIED:20190219T190048Z
UID:event_request-335936-liberty53@intand.com
END:VEVENT
END:VCALENDAR
