BEGIN:VCALENDAR
VERSION:2.0
PRODID:-//Intand Corporation//Tandem//EN
METHOD:PUBLISH
BEGIN:VEVENT
DTSTAMP:20260424T033408Z
DTSTART:20190308T213000Z
DTEND:20190308T233000Z
TRANSP:TRANSPARENT
PRIORITY:0
SUMMARY:LNHS Girls C Team Soccer (Both Teams)
LOCATION:LNHS Soccer Field
DESCRIPTION:Groups:\nLNHS Soccer - Girls C-Team\n\nSchools:\nLiberty North
  High School\n\nLocation:\nLNHS Soccer Field\n\n
URL;VALUE=URI:http://liberty53.tandem.co/index.php?type=view&action=event&
 id=335912
CREATED:20190219T171647Z
LAST-MODIFIED:20190219T190026Z
UID:event_request-335912-liberty53@intand.com
END:VEVENT
END:VCALENDAR
