BEGIN:VCALENDAR
VERSION:2.0
PRODID:-//Intand Corporation//Tandem//EN
METHOD:PUBLISH
BEGIN:VEVENT
DTSTAMP:20260424T043538Z
DTSTART:20190217T190000Z
DTEND:20190217T203000Z
TRANSP:TRANSPARENT
PRIORITY:0
SUMMARY:LN Cheer and Dance Clinic
LOCATION:LNHS Fieldhouse (GH HVAC)
DESCRIPTION:Groups:\nLNHS Dance Team\nLNHS Cheerleading\n\nSchools:\nLiber
 ty North High School\n\nLocation:\nLNHS Fieldhouse (GH HVAC)\n\n
URL;VALUE=URI:http://liberty53.tandem.co/index.php?type=view&action=event&
 id=335766
CREATED:20190217T024957Z
LAST-MODIFIED:20190217T024957Z
UID:event-335766-liberty53@intand.com
END:VEVENT
END:VCALENDAR
