BEGIN:VCALENDAR
VERSION:2.0
PRODID:-//Intand Corporation//Tandem//EN
METHOD:PUBLISH
BEGIN:VEVENT
DTSTAMP:20260424T075937Z
DTSTART:20190214T003000Z
DTEND:20190214T023000Z
TRANSP:TRANSPARENT
PRIORITY:0
SUMMARY:LHS - KC Athletics Soccer
LOCATION:LHS Cokely Gym
DESCRIPTION:Groups:\nKC Athletics Soccer\n\nSchools:\nLiberty High School\
 n\nLocation:\nLHS Cokely Gym\n\n
URL;VALUE=URI:http://liberty53.tandem.co/index.php?type=view&action=event&
 id=335675
CREATED:20190213T201651Z
LAST-MODIFIED:20190213T201651Z
UID:event-335675-liberty53@intand.com
END:VEVENT
END:VCALENDAR
