BEGIN:VCALENDAR
VERSION:2.0
PRODID:-//Intand Corporation//Tandem//EN
METHOD:PUBLISH
BEGIN:VEVENT
DTSTAMP:20260424T033002Z
DTSTART:20190222T003000Z
DTEND:20190222T020000Z
TRANSP:TRANSPARENT
PRIORITY:0
SUMMARY:LN Parent Meeting-Gates
LOCATION:LNHS LMC - 200
DESCRIPTION:Groups:\nLNHS Model UN\n\nSchools:\nLiberty North High School\
 n\nLocation:\nLNHS LMC - 200\n\n
URL;VALUE=URI:http://liberty53.tandem.co/index.php?type=view&action=event&
 id=335656
CREATED:20190213T163826Z
LAST-MODIFIED:20190213T202633Z
UID:event_request-335656-liberty53@intand.com
END:VEVENT
END:VCALENDAR
