BEGIN:VCALENDAR
VERSION:2.0
PRODID:-//Intand Corporation//Tandem//EN
METHOD:PUBLISH
BEGIN:VEVENT
DTSTAMP:20260424T050223Z
DTSTART:20190715T231500Z
DTEND:20190716T004500Z
TRANSP:TRANSPARENT
PRIORITY:0
SUMMARY:SCE - Panthers Basketball (Graham/Michaelsen)
LOCATION:SCE Gym
DESCRIPTION:Groups:\nPanthers Basketball \n\nSchools:\nShoal Creek Element
 ary\n\nLocation:\nSCE Gym\n\n
URL;VALUE=URI:http://liberty53.tandem.co/index.php?type=view&action=event&
 id=335633
CREATED:20190212T203135Z
LAST-MODIFIED:20190212T203135Z
UID:event-335633-liberty53@intand.com
END:VEVENT
END:VCALENDAR
