BEGIN:VCALENDAR
VERSION:2.0
PRODID:-//Intand Corporation//Tandem//EN
METHOD:PUBLISH
BEGIN:VEVENT
DTSTAMP:20260424T075859Z
DTSTART:20190307T213000Z
DTEND:20190308T003000Z
TRANSP:TRANSPARENT
PRIORITY:0
SUMMARY:LHS - Girls Soccer Practice
LOCATION:LHS Turf Practice Field
DESCRIPTION:Groups:\nLHS Girls Soccer\n\nSchools:\nLiberty High School\n\n
 Location:\nLHS Turf Practice Field\n\n
URL;VALUE=URI:http://liberty53.tandem.co/index.php?type=view&action=event&
 id=335491
CREATED:20190212T181924Z
LAST-MODIFIED:20190212T181924Z
UID:event-335491-liberty53@intand.com
END:VEVENT
END:VCALENDAR
