BEGIN:VCALENDAR
VERSION:2.0
PRODID:-//Intand Corporation//Tandem//EN
METHOD:PUBLISH
BEGIN:VEVENT
DTSTAMP:20260424T033631Z
DTSTART:20190214T190000Z
DTEND:20190214T193500Z
TRANSP:TRANSPARENT
PRIORITY:0
SUMMARY:Women's Soccer Meeting
LOCATION:LHS Learning Stairs
DESCRIPTION:Women's Soccer Team Meeting to collect fundraising money\n\nSc
 hools:\nLiberty High School\n\nLocation:\nLHS Learning Stairs\n\n
URL;VALUE=URI:http://liberty53.tandem.co/index.php?type=view&action=event&
 id=335425
CREATED:20190211T170901Z
LAST-MODIFIED:20190211T172056Z
UID:event_request-335425-liberty53@intand.com
END:VEVENT
END:VCALENDAR
