BEGIN:VCALENDAR
VERSION:2.0
PRODID:-//Intand Corporation//Tandem//EN
METHOD:PUBLISH
BEGIN:VEVENT
DTSTAMP:20260424T050346Z
DTSTART:20190219T134500Z
DTEND:20190219T141500Z
TRANSP:TRANSPARENT
PRIORITY:0
SUMMARY:LHS - Eligibility Determination Meeting - Henderson
LOCATION:LHS Small Group Room
DESCRIPTION:Groups:\nLHS SPED\n\nSchools:\nLiberty High School\n\nLocation
 :\nLHS Small Group Room\n\n
URL;VALUE=URI:http://liberty53.tandem.co/index.php?type=view&action=event&
 id=335400
CREATED:20190210T155621Z
LAST-MODIFIED:20190211T144042Z
UID:event_request-335400-liberty53@intand.com
END:VEVENT
END:VCALENDAR
